BEGIN:VCALENDAR
VERSION:2.0
PRODID:-//TRL South Carolina - ECPv6.15.20//NONSGML v1.0//EN
CALSCALE:GREGORIAN
METHOD:PUBLISH
X-ORIGINAL-URL:https://sc.thereadingleague.org
X-WR-CALDESC:Events for TRL South Carolina
REFRESH-INTERVAL;VALUE=DURATION:PT1H
X-Robots-Tag:noindex
X-PUBLISHED-TTL:PT1H
BEGIN:VTIMEZONE
TZID:America/New_York
BEGIN:DAYLIGHT
TZOFFSETFROM:-0500
TZOFFSETTO:-0400
TZNAME:EDT
DTSTART:20240310T070000
END:DAYLIGHT
BEGIN:STANDARD
TZOFFSETFROM:-0400
TZOFFSETTO:-0500
TZNAME:EST
DTSTART:20241103T060000
END:STANDARD
BEGIN:DAYLIGHT
TZOFFSETFROM:-0500
TZOFFSETTO:-0400
TZNAME:EDT
DTSTART:20250309T070000
END:DAYLIGHT
BEGIN:STANDARD
TZOFFSETFROM:-0400
TZOFFSETTO:-0500
TZNAME:EST
DTSTART:20251102T060000
END:STANDARD
BEGIN:DAYLIGHT
TZOFFSETFROM:-0500
TZOFFSETTO:-0400
TZNAME:EDT
DTSTART:20260308T070000
END:DAYLIGHT
BEGIN:STANDARD
TZOFFSETFROM:-0400
TZOFFSETTO:-0500
TZNAME:EST
DTSTART:20261101T060000
END:STANDARD
END:VTIMEZONE
BEGIN:VEVENT
DTSTART;TZID=America/New_York:20251011T090000
DTEND;TZID=America/New_York:20251011T100000
DTSTAMP:20260419T085636
CREATED:20250804T022725Z
LAST-MODIFIED:20250806T165021Z
UID:10000183-1760173200-1760176800@sc.thereadingleague.org
SUMMARY:The Reading League South Carolina\, SC Spotlight -Allison Rogers\, Camperdown Academy-October 11th 9:00 a.m. to 10 a.m.
DESCRIPTION:The Reading League South Carolina\, SC Spotlight -Allison Rogers\, Camperdown Academy-October 11th 9:00 a.m. to 10 a.m. (more info coming) \nEvent Date:  October 11\, 2025 \nEvent Time:  9:00 a.m. to 10 a.m. \nLocation/Virtual Registration: bit.ly/4fnZR4J \nDescription: \nJoin us for The Reading League South Carolina Virtual Event: \nFor decades\, Camperdown Academy has led the way in structured literacy instruction\, grounded in the Orton-Gillingham (OG) Approach. Since 1986\, every teacher at the academy has been trained in this evidence-based\, prescriptive\, sequential\, and multisensory approach. As the broader educational community embraces structured literacy through programs like LETRS\, Camperdown’s consistent instructional practices are now being recognized and sought after. This session will highlight the academy’s long-standing commitment to the OG Approach\, the impact of their practices\, and the growing demand for workshops and trainings from schools seeking to implement similar strategies in their own classrooms. \nGuest Presenter Info: Allison Rogers\, Camperdown Academy \n#trlsc #sor #scienceofreading #literacy \n \n \n \n \n \n \n \n \n \n \n \n\n\n\n\n\n\n\n\n\n\n\n 
URL:https://sc.thereadingleague.org/calendar/the-reading-league-south-carolina-sc-spotlight-allison-rogers-camperdown-academy-october-11th-900-a-m-to-10-a-m/
CATEGORIES:Event,Live Event,South Carolina,Virtual
END:VEVENT
END:VCALENDAR